BEGIN:VCALENDAR
VERSION:2.0
PRODID:-//Sengeno Kirchberg e.V. - ECPv6.15.20//NONSGML v1.0//EN
CALSCALE:GREGORIAN
METHOD:PUBLISH
X-ORIGINAL-URL:https://sengeno-kirchberg.de
X-WR-CALDESC:Veranstaltungen für Sengeno Kirchberg e.V.
REFRESH-INTERVAL;VALUE=DURATION:PT1H
X-Robots-Tag:noindex
X-PUBLISHED-TTL:PT1H
BEGIN:VTIMEZONE
TZID:UTC
BEGIN:STANDARD
TZOFFSETFROM:+0000
TZOFFSETTO:+0000
TZNAME:UTC
DTSTART:20120101T000000
END:STANDARD
END:VTIMEZONE
BEGIN:VEVENT
DTSTART;VALUE=DATE:20130415
DTEND;VALUE=DATE:20130416
DTSTAMP:20260421T183056
CREATED:20230727T161832Z
LAST-MODIFIED:20230727T161832Z
UID:971-1365984000-1366070399@sengeno-kirchberg.de
SUMMARY:Mitwirkung bei der Ausstellung des Landkreises "Miteinander der Generationen" in Schwäbisch Hall
DESCRIPTION:
URL:https://sengeno-kirchberg.de/event/mitwirkung-bei-der-ausstellung-des-landkreises-miteinander-der-generationen-in-schwaebisch-hall/
END:VEVENT
END:VCALENDAR