BEGIN:VCALENDAR
VERSION:2.0
PRODID:-//Sengeno Kirchberg e.V. - ECPv6.15.20//NONSGML v1.0//EN
CALSCALE:GREGORIAN
METHOD:PUBLISH
X-WR-CALNAME:Sengeno Kirchberg e.V.
X-ORIGINAL-URL:https://sengeno-kirchberg.de
X-WR-CALDESC:Veranstaltungen für Sengeno Kirchberg e.V.
REFRESH-INTERVAL;VALUE=DURATION:PT1H
X-Robots-Tag:noindex
X-PUBLISHED-TTL:PT1H
BEGIN:VTIMEZONE
TZID:UTC
BEGIN:STANDARD
TZOFFSETFROM:+0000
TZOFFSETTO:+0000
TZNAME:UTC
DTSTART:20120101T000000
END:STANDARD
END:VTIMEZONE
BEGIN:VEVENT
DTSTART;VALUE=DATE:20131109
DTEND;VALUE=DATE:20131110
DTSTAMP:20260421T060613
CREATED:20230727T161615Z
LAST-MODIFIED:20230727T161615Z
UID:965-1383955200-1384041599@sengeno-kirchberg.de
SUMMARY:„Das Vergessen verstehen lernen“ \, Stadthalle Kirchberg Für 2013. Fachtagung im Rahmen der Demenzkampagne des Landkreises Schwäbisch Hall
DESCRIPTION:Veranstalter ist die SENGENO gemeinsam mit der Diakoniestation Blaufelden und der evangelischen Heimstiftung.
URL:https://sengeno-kirchberg.de/event/das-vergessen-verstehen-lernen-stadthalle-kirchberg-fuer-2013-fachtagung-im-rahmen-der-demenzkampagne-des-landkreises-schwaebisch-hall/
END:VEVENT
BEGIN:VEVENT
DTSTART;VALUE=DATE:20131115
DTEND;VALUE=DATE:20131116
DTSTAMP:20260421T060613
CREATED:20230727T161244Z
LAST-MODIFIED:20230727T161244Z
UID:961-1384473600-1384559999@sengeno-kirchberg.de
SUMMARY:Teilnahme an Kongress Seniorengenossenschaften in Nürnberg
DESCRIPTION:
URL:https://sengeno-kirchberg.de/event/teilnahme-an-kongress-seniorengenossenschaften-in-nuernberg/
END:VEVENT
BEGIN:VEVENT
DTSTART;VALUE=DATE:20131115
DTEND;VALUE=DATE:20131116
DTSTAMP:20260421T060613
CREATED:20230727T161428Z
LAST-MODIFIED:20230727T161428Z
UID:963-1384473600-1384559999@sengeno-kirchberg.de
SUMMARY:Beiträge und Zitat zum „Wegweiser zur Gründung von Seniorengenossenschaften“ Bayr. Staatsministerium f. Arbeit\, Sozialordnung\, Familie und Frauen
DESCRIPTION:
URL:https://sengeno-kirchberg.de/event/beitraege-und-zitat-zum-wegweiser-zur-gruendung-von-seniorengenossenschaften-bayr-staatsministerium-f-arbeit-sozialordnung-familie-und-frauen/
END:VEVENT
END:VCALENDAR