BEGIN:VCALENDAR
VERSION:2.0
PRODID:-//Sengeno Kirchberg e.V. - ECPv6.15.20//NONSGML v1.0//EN
CALSCALE:GREGORIAN
METHOD:PUBLISH
X-WR-CALNAME:Sengeno Kirchberg e.V.
X-ORIGINAL-URL:https://sengeno-kirchberg.de
X-WR-CALDESC:Veranstaltungen für Sengeno Kirchberg e.V.
REFRESH-INTERVAL;VALUE=DURATION:PT1H
X-Robots-Tag:noindex
X-PUBLISHED-TTL:PT1H
BEGIN:VTIMEZONE
TZID:UTC
BEGIN:STANDARD
TZOFFSETFROM:+0000
TZOFFSETTO:+0000
TZNAME:UTC
DTSTART:20130101T000000
END:STANDARD
END:VTIMEZONE
BEGIN:VEVENT
DTSTART;VALUE=DATE:20141104
DTEND;VALUE=DATE:20141105
DTSTAMP:20260420T045113
CREATED:20230727T160914Z
LAST-MODIFIED:20230727T160914Z
UID:955-1415059200-1415145599@sengeno-kirchberg.de
SUMMARY:Teilnahme an der Regionalveranstaltung zur "Engagement-Strategie B-W" in Kupferzell (Hohenlohekreis)
DESCRIPTION:
URL:https://sengeno-kirchberg.de/event/teilnahme-an-der-regionalveranstaltung-zur-engagement-strategie-b-w-in-kupferzell-hohenlohekreis/
END:VEVENT
END:VCALENDAR